Name | Last modified | Size | Description | |
---|---|---|---|---|
Parent Directory | - | |||
buildbin-out.txt | 17-Oct-2023 00:37 | 1.1K | ||
buildbin-summary.dcf | 17-Oct-2023 00:37 | 512 | ||
buildsrc-out.txt | 17-Oct-2023 00:37 | 867 | ||
buildsrc-summary.dcf | 17-Oct-2023 00:37 | 418 | ||
checksrc-out.txt | 17-Oct-2023 00:37 | 3.2K | ||
checksrc-summary.dcf | 17-Oct-2023 00:37 | 431 | ||
install-out.txt | 17-Oct-2023 00:37 | 1.0K | ||
install-summary.dcf | 17-Oct-2023 00:37 | 263 | ||