Index of /checkResults/3.17/bioc-LATEST/Travel/raw-results/nebbiolo1
Name
Last modified
Size
Description
Parent Directory
-
buildsrc-out.txt
17-Oct-2023 00:35
5.7K
buildsrc-summary.dcf
17-Oct-2023 00:35
330
install-out.txt
17-Oct-2023 00:35
5.4K
install-summary.dcf
17-Oct-2023 00:35
259