Index of /checkResults/3.17/bioc-LATEST/Travel/raw-results/merida1
Name
Last modified
Size
Description
Parent Directory
-
buildsrc-out.txt
17-Oct-2023 00:37
10K
buildsrc-summary.dcf
17-Oct-2023 00:37
341
install-out.txt
17-Oct-2023 00:37
10K
install-summary.dcf
17-Oct-2023 00:37
269