![]() | Name | Last modified | Size | Description |
---|---|---|---|---|
![]() | Parent Directory | - | ||
![]() | buildsrc-out.txt | 28-Sep-2023 00:36 | 860 | |
![]() | buildsrc-summary.dcf | 28-Sep-2023 00:36 | 409 | |
![]() | checksrc-out.txt | 28-Sep-2023 00:36 | 4.0K | |
![]() | checksrc-summary.dcf | 28-Sep-2023 00:36 | 404 | |
![]() | install-out.txt | 28-Sep-2023 00:36 | 954 | |
![]() | install-summary.dcf | 28-Sep-2023 00:36 | 254 | |