![]() | Name | Last modified | Size | Description |
---|---|---|---|---|
![]() | Parent Directory | - | ||
![]() | buildsrc-out.txt | 09-Jun-2023 00:05 | 860 | |
![]() | buildsrc-summary.dcf | 09-Jun-2023 00:05 | 409 | |
![]() | checksrc-out.txt | 09-Jun-2023 00:05 | 4.0K | |
![]() | checksrc-summary.dcf | 09-Jun-2023 00:05 | 404 | |
![]() | install-out.txt | 09-Jun-2023 00:05 | 954 | |
![]() | install-summary.dcf | 09-Jun-2023 00:05 | 254 | |