Index of /checkResults/3.17/bioc-LATEST/TRESS/raw-results/merida1

[ICO]NameLast modifiedSizeDescription

[DIR]Parent Directory  -  
[TXT]buildbin-out.txt10-Jun-2023 00:07 1.1K 
[   ]buildbin-summary.dcf10-Jun-2023 00:07 516  
[TXT]buildsrc-out.txt10-Jun-2023 00:07 870  
[   ]buildsrc-summary.dcf10-Jun-2023 00:07 420  
[TXT]checksrc-out.txt10-Jun-2023 00:07 4.0K 
[   ]checksrc-summary.dcf10-Jun-2023 00:07 434  
[TXT]install-out.txt10-Jun-2023 00:07 1.0K 
[   ]install-summary.dcf10-Jun-2023 00:07 265