Index of /checkResults/3.17/bioc-LATEST/TRESS/raw-results

[ICO]NameLast modifiedSizeDescription

[DIR]Parent Directory  -  
[   ]info.dcf29-Sep-2023 00:38 268  
[DIR]merida1/29-Sep-2023 00:38 -  
[DIR]nebbiolo1/29-Sep-2023 00:36 -  
[DIR]palomino3/29-Sep-2023 00:37 -