Name | Last modified | Size | Description | |
---|---|---|---|---|
Parent Directory | - | |||
buildbin-out.txt | 17-Oct-2023 00:36 | 1.3K | ||
buildbin-summary.dcf | 17-Oct-2023 00:36 | 503 | ||
buildsrc-out.txt | 17-Oct-2023 00:36 | 829 | ||
buildsrc-summary.dcf | 17-Oct-2023 00:36 | 444 | ||
checksrc-out.txt | 17-Oct-2023 00:36 | 4.1K | ||
checksrc-summary.dcf | 17-Oct-2023 00:36 | 445 | ||
install-out.txt | 17-Oct-2023 00:36 | 1.2K | ||
install-summary.dcf | 17-Oct-2023 00:36 | 264 | ||