![]() | Name | Last modified | Size | Description |
---|---|---|---|---|
![]() | Parent Directory | - | ||
![]() | buildbin-out.txt | 23-Sep-2023 00:37 | 1.3K | |
![]() | buildbin-summary.dcf | 23-Sep-2023 00:37 | 602 | |
![]() | buildsrc-out.txt | 24-Sep-2023 00:37 | 864 | |
![]() | buildsrc-summary.dcf | 24-Sep-2023 00:37 | 464 | |
![]() | checksrc-out.txt | 24-Sep-2023 00:37 | 3.8K | |
![]() | checksrc-summary.dcf | 24-Sep-2023 00:37 | 492 | |
![]() | install-out.txt | 24-Sep-2023 00:37 | 1.0K | |
![]() | install-summary.dcf | 24-Sep-2023 00:37 | 293 | |