Name | Last modified | Size | Description | |
---|---|---|---|---|
Parent Directory | - | |||
install-summary.dcf | 17-Oct-2023 00:35 | 267 | ||
install-out.txt | 17-Oct-2023 00:35 | 972 | ||
checksrc-summary.dcf | 17-Oct-2023 00:35 | 430 | ||
checksrc-out.txt | 17-Oct-2023 00:35 | 4.3K | ||
buildsrc-summary.dcf | 17-Oct-2023 00:35 | 430 | ||
buildsrc-out.txt | 17-Oct-2023 00:35 | 885 | ||