Name | Last modified | Size | Description | |
---|---|---|---|---|
Parent Directory | - | |||
buildbin-out.txt | 17-Oct-2023 00:37 | 22K | ||
buildbin-summary.dcf | 17-Oct-2023 00:37 | 555 | ||
buildsrc-out.txt | 17-Oct-2023 00:37 | 862 | ||
buildsrc-summary.dcf | 17-Oct-2023 00:37 | 440 | ||
checksrc-out.txt | 17-Oct-2023 00:37 | 4.0K | ||
checksrc-summary.dcf | 17-Oct-2023 00:37 | 460 | ||
install-out.txt | 17-Oct-2023 00:37 | 20K | ||
install-summary.dcf | 17-Oct-2023 00:37 | 277 | ||