Index of /checkResults/3.17/bioc-LATEST/SomaticSignatures/raw-results

[ICO]NameLast modifiedSizeDescription

[DIR]Parent Directory  -  
[   ]info.dcf23-Sep-2023 00:37 288  
[DIR]merida1/23-Sep-2023 00:37 -  
[DIR]nebbiolo1/23-Sep-2023 00:36 -  
[DIR]palomino3/23-Sep-2023 00:36 -