Index of /checkResults/3.17/bioc-LATEST/ShortRead/raw-results/palomino3

[ICO]NameLast modifiedSizeDescription

[DIR]Parent Directory  -  
[TXT]buildbin-out.txt17-Oct-2023 00:36 13K 
[TXT]install-out.txt17-Oct-2023 00:36 13K 
[TXT]checksrc-out.txt17-Oct-2023 00:36 6.2K 
[TXT]buildsrc-out.txt17-Oct-2023 00:36 1.0K 
[   ]buildbin-summary.dcf17-Oct-2023 00:36 527  
[   ]checksrc-summary.dcf17-Oct-2023 00:36 461  
[   ]buildsrc-summary.dcf17-Oct-2023 00:36 460  
[   ]install-summary.dcf17-Oct-2023 00:36 272