Name | Last modified | Size | Description | |
---|---|---|---|---|
Parent Directory | - | |||
buildbin-out.txt | 17-Oct-2023 00:37 | 4.5K | ||
buildbin-summary.dcf | 17-Oct-2023 00:37 | 554 | ||
buildsrc-out.txt | 17-Oct-2023 00:37 | 925 | ||
buildsrc-summary.dcf | 17-Oct-2023 00:37 | 440 | ||
checksrc-out.txt | 17-Oct-2023 00:37 | 4.0K | ||
checksrc-summary.dcf | 17-Oct-2023 00:37 | 465 | ||
install-out.txt | 17-Oct-2023 00:37 | 2.5K | ||
install-summary.dcf | 17-Oct-2023 00:37 | 277 | ||