Index of /checkResults/3.17/bioc-LATEST/STATegRa/raw-results

[ICO]NameLast modifiedSizeDescription

[DIR]Parent Directory  -  
[   ]info.dcf27-Sep-2023 00:37 334  
[DIR]merida1/27-Sep-2023 00:37 -  
[DIR]nebbiolo1/27-Sep-2023 00:36 -  
[DIR]palomino3/27-Sep-2023 00:37 -