Index of /checkResults/3.17/bioc-LATEST/STAN/raw-results/palomino3
Name
Last modified
Size
Description
Parent Directory
-
install-summary.dcf
17-Oct-2023 00:36
265
buildsrc-summary.dcf
17-Oct-2023 00:36
359
install-out.txt
17-Oct-2023 00:36
7.2K
buildsrc-out.txt
17-Oct-2023 00:36
7.6K