Index of /checkResults/3.17/bioc-LATEST/STAN/raw-results/nebbiolo1
Name
Last modified
Size
Description
Parent Directory
-
install-summary.dcf
17-Oct-2023 00:35
255
install-out.txt
17-Oct-2023 00:35
6.0K
buildsrc-summary.dcf
17-Oct-2023 00:35
326
buildsrc-out.txt
17-Oct-2023 00:35
6.3K