Index of /checkResults/3.17/bioc-LATEST/STAN/raw-results/merida1
Name
Last modified
Size
Description
Parent Directory
-
install-summary.dcf
17-Oct-2023 00:37
266
buildsrc-summary.dcf
17-Oct-2023 00:37
337
install-out.txt
17-Oct-2023 00:37
7.9K
buildsrc-out.txt
17-Oct-2023 00:37
8.1K