![]() | Name | Last modified | Size | Description |
---|---|---|---|---|
![]() | Parent Directory | - | ||
![]() | buildsrc-out.txt | 17-Oct-2023 00:35 | 872 | |
![]() | buildsrc-summary.dcf | 17-Oct-2023 00:35 | 419 | |
![]() | checksrc-out.txt | 17-Oct-2023 00:35 | 3.6K | |
![]() | checksrc-summary.dcf | 17-Oct-2023 00:35 | 426 | |
![]() | install-out.txt | 17-Oct-2023 00:35 | 963 | |
![]() | install-summary.dcf | 17-Oct-2023 00:35 | 260 | |