Name | Last modified | Size | Description | |
---|---|---|---|---|
Parent Directory | - | |||
buildbin-out.txt | 17-Oct-2023 00:36 | 6.4K | ||
buildbin-summary.dcf | 17-Oct-2023 00:36 | 527 | ||
buildsrc-out.txt | 17-Oct-2023 00:36 | 881 | ||
buildsrc-summary.dcf | 17-Oct-2023 00:36 | 461 | ||
checksrc-out.txt | 17-Oct-2023 00:36 | 4.5K | ||
checksrc-summary.dcf | 17-Oct-2023 00:36 | 455 | ||
install-out.txt | 17-Oct-2023 00:36 | 6.2K | ||
install-summary.dcf | 17-Oct-2023 00:36 | 272 | ||