Name | Last modified | Size | Description | |
---|---|---|---|---|
Parent Directory | - | |||
buildsrc-out.txt | 17-Oct-2023 00:35 | 802 | ||
buildsrc-summary.dcf | 17-Oct-2023 00:35 | 414 | ||
checksrc-out.txt | 17-Oct-2023 00:35 | 4.6K | ||
checksrc-summary.dcf | 17-Oct-2023 00:35 | 409 | ||
install-out.txt | 17-Oct-2023 00:35 | 941 | ||
install-summary.dcf | 17-Oct-2023 00:35 | 256 | ||