![]() | Name | Last modified | Size | Description |
---|---|---|---|---|
![]() | Parent Directory | - | ||
![]() | buildsrc-out.txt | 01-Oct-2023 00:35 | 957 | |
![]() | buildsrc-summary.dcf | 01-Oct-2023 00:35 | 411 | |
![]() | checksrc-out.txt | 01-Oct-2023 00:35 | 6.5K | |
![]() | checksrc-summary.dcf | 01-Oct-2023 00:35 | 410 | |
![]() | install-out.txt | 01-Oct-2023 00:35 | 1.0K | |
![]() | install-summary.dcf | 01-Oct-2023 00:35 | 255 | |