![]() | Name | Last modified | Size | Description |
---|---|---|---|---|
![]() | Parent Directory | - | ||
![]() | buildbin-out.txt | 23-Sep-2023 00:37 | 1.2K | |
![]() | buildbin-summary.dcf | 23-Sep-2023 00:37 | 519 | |
![]() | buildsrc-out.txt | 23-Sep-2023 00:37 | 967 | |
![]() | buildsrc-summary.dcf | 23-Sep-2023 00:37 | 422 | |
![]() | checksrc-out.txt | 23-Sep-2023 00:37 | 5.5K | |
![]() | checksrc-summary.dcf | 23-Sep-2023 00:37 | 436 | |
![]() | install-out.txt | 23-Sep-2023 00:37 | 1.0K | |
![]() | install-summary.dcf | 23-Sep-2023 00:37 | 266 | |