Name | Last modified | Size | Description | |
---|---|---|---|---|
Parent Directory | - | |||
install-out.txt | 17-Oct-2023 00:36 | 1.5K | ||
install-summary.dcf | 17-Oct-2023 00:36 | 260 | ||
buildsrc-out.txt | 17-Oct-2023 00:36 | 911 | ||
buildsrc-summary.dcf | 17-Oct-2023 00:36 | 434 | ||
checksrc-summary.dcf | 17-Oct-2023 00:36 | 437 | ||
checksrc-out.txt | 17-Oct-2023 00:36 | 6.6K | ||
buildbin-out.txt | 17-Oct-2023 00:36 | 1.6K | ||
buildbin-summary.dcf | 17-Oct-2023 00:36 | 491 | ||