Name | Last modified | Size | Description | |
---|---|---|---|---|
Parent Directory | - | |||
checksrc-summary.dcf | 17-Oct-2023 00:35 | 404 | ||
checksrc-out.txt | 17-Oct-2023 00:35 | 6.2K | ||
buildsrc-summary.dcf | 17-Oct-2023 00:35 | 405 | ||
buildsrc-out.txt | 17-Oct-2023 00:35 | 883 | ||
install-summary.dcf | 17-Oct-2023 00:35 | 251 | ||
install-out.txt | 17-Oct-2023 00:35 | 1.4K | ||