Name | Last modified | Size | Description | |
---|---|---|---|---|
Parent Directory | - | |||
buildbin-out.txt | 17-Oct-2023 00:37 | 3.5K | ||
buildbin-summary.dcf | 17-Oct-2023 00:37 | 506 | ||
buildsrc-out.txt | 17-Oct-2023 00:37 | 893 | ||
buildsrc-summary.dcf | 17-Oct-2023 00:37 | 416 | ||
checksrc-out.txt | 17-Oct-2023 00:37 | 6.2K | ||
checksrc-summary.dcf | 17-Oct-2023 00:37 | 434 | ||
install-out.txt | 17-Oct-2023 00:37 | 1.7K | ||
install-summary.dcf | 17-Oct-2023 00:37 | 261 | ||