Name | Last modified | Size | Description | |
---|---|---|---|---|
Parent Directory | - | |||
buildbin-out.txt | 17-Oct-2023 00:37 | 6.0K | ||
buildbin-summary.dcf | 17-Oct-2023 00:37 | 507 | ||
buildsrc-out.txt | 17-Oct-2023 00:37 | 830 | ||
buildsrc-summary.dcf | 17-Oct-2023 00:37 | 417 | ||
checksrc-out.txt | 17-Oct-2023 00:37 | 3.8K | ||
checksrc-summary.dcf | 17-Oct-2023 00:37 | 428 | ||
install-out.txt | 17-Oct-2023 00:37 | 2.6K | ||
install-summary.dcf | 17-Oct-2023 00:37 | 262 | ||