Name | Last modified | Size | Description | |
---|---|---|---|---|
Parent Directory | - | |||
buildbin-out.txt | 17-Oct-2023 00:37 | 9.4K | ||
install-out.txt | 17-Oct-2023 00:37 | 5.8K | ||
checksrc-out.txt | 17-Oct-2023 00:37 | 5.1K | ||
buildsrc-out.txt | 17-Oct-2023 00:37 | 849 | ||
buildbin-summary.dcf | 17-Oct-2023 00:37 | 534 | ||
checksrc-summary.dcf | 17-Oct-2023 00:37 | 446 | ||
buildsrc-summary.dcf | 17-Oct-2023 00:37 | 429 | ||
install-summary.dcf | 17-Oct-2023 00:37 | 271 | ||