Name | Last modified | Size | Description | |
---|---|---|---|---|
Parent Directory | - | |||
buildsrc-out.txt | 17-Oct-2023 00:35 | 861 | ||
buildsrc-summary.dcf | 17-Oct-2023 00:35 | 411 | ||
checksrc-out.txt | 17-Oct-2023 00:35 | 3.6K | ||
checksrc-summary.dcf | 17-Oct-2023 00:35 | 405 | ||
install-out.txt | 17-Oct-2023 00:35 | 954 | ||
install-summary.dcf | 17-Oct-2023 00:35 | 254 | ||