Name | Last modified | Size | Description | |
---|---|---|---|---|
Parent Directory | - | |||
buildbin-summary.dcf | 17-Oct-2023 00:36 | 490 | ||
buildbin-out.txt | 17-Oct-2023 00:36 | 2.7K | ||
checksrc-summary.dcf | 17-Oct-2023 00:36 | 431 | ||
checksrc-out.txt | 17-Oct-2023 00:36 | 4.4K | ||
buildsrc-summary.dcf | 17-Oct-2023 00:36 | 437 | ||
buildsrc-out.txt | 17-Oct-2023 00:36 | 851 | ||
install-summary.dcf | 17-Oct-2023 00:36 | 260 | ||
install-out.txt | 17-Oct-2023 00:36 | 2.5K | ||