Name | Last modified | Size | Description | |
---|---|---|---|---|
Parent Directory | - | |||
install-out.txt | 17-Oct-2023 00:37 | 2.1K | ||
install-summary.dcf | 17-Oct-2023 00:37 | 262 | ||
buildsrc-out.txt | 17-Oct-2023 00:37 | 830 | ||
buildsrc-summary.dcf | 17-Oct-2023 00:37 | 416 | ||
checksrc-out.txt | 17-Oct-2023 00:37 | 4.0K | ||
checksrc-summary.dcf | 17-Oct-2023 00:37 | 428 | ||
buildbin-out.txt | 17-Oct-2023 00:37 | 4.0K | ||
buildbin-summary.dcf | 17-Oct-2023 00:37 | 507 | ||