Index of /checkResults/3.17/bioc-LATEST/RiboProfiling/raw-results
Name
Last modified
Size
Description
Parent Directory
-
info.dcf
04-Oct-2023 00:37
290
merida1/
04-Oct-2023 00:37
-
nebbiolo1/
04-Oct-2023 00:35
-
palomino3/
04-Oct-2023 00:36
-