Name | Last modified | Size | Description | |
---|---|---|---|---|
Parent Directory | - | |||
buildbin-out.txt | 17-Oct-2023 00:36 | 12K | ||
buildbin-summary.dcf | 17-Oct-2023 00:36 | 546 | ||
buildsrc-out.txt | 17-Oct-2023 00:36 | 1.0K | ||
buildsrc-summary.dcf | 17-Oct-2023 00:36 | 484 | ||
checksrc-out.txt | 17-Oct-2023 00:36 | 5.0K | ||
checksrc-summary.dcf | 17-Oct-2023 00:36 | 485 | ||
install-out.txt | 17-Oct-2023 00:36 | 13K | ||
install-summary.dcf | 17-Oct-2023 00:36 | 301 | ||