Name | Last modified | Size | Description | |
---|---|---|---|---|
Parent Directory | - | |||
buildbin-out.txt | 17-Oct-2023 00:37 | 14K | ||
buildbin-summary.dcf | 17-Oct-2023 00:37 | 528 | ||
buildsrc-out.txt | 17-Oct-2023 00:37 | 845 | ||
buildsrc-summary.dcf | 17-Oct-2023 00:37 | 425 | ||
checksrc-out.txt | 17-Oct-2023 00:37 | 5.0K | ||
checksrc-summary.dcf | 17-Oct-2023 00:37 | 447 | ||
install-out.txt | 17-Oct-2023 00:37 | 13K | ||
install-summary.dcf | 17-Oct-2023 00:37 | 268 | ||