![]() | Name | Last modified | Size | Description |
---|---|---|---|---|
![]() | Parent Directory | - | ||
![]() | buildsrc-out.txt | 10-Jun-2023 00:05 | 888 | |
![]() | buildsrc-summary.dcf | 10-Jun-2023 00:05 | 421 | |
![]() | checksrc-out.txt | 10-Jun-2023 00:05 | 4.7K | |
![]() | checksrc-summary.dcf | 10-Jun-2023 00:05 | 423 | |
![]() | install-out.txt | 10-Jun-2023 00:05 | 38K | |
![]() | install-summary.dcf | 10-Jun-2023 00:05 | 262 | |