![]() | Name | Last modified | Size | Description |
---|---|---|---|---|
![]() | Parent Directory | - | ||
![]() | install-summary.dcf | 04-Oct-2023 00:37 | 272 | |
![]() | install-out.txt | 04-Oct-2023 00:37 | 50K | |
![]() | checksrc-summary.dcf | 04-Oct-2023 00:37 | 453 | |
![]() | checksrc-out.txt | 04-Oct-2023 00:37 | 4.7K | |
![]() | buildsrc-summary.dcf | 04-Oct-2023 00:37 | 431 | |
![]() | buildsrc-out.txt | 04-Oct-2023 00:37 | 898 | |
![]() | buildbin-summary.dcf | 04-Oct-2023 00:37 | 537 | |
![]() | buildbin-out.txt | 04-Oct-2023 00:37 | 52K | |