Name | Last modified | Size | Description | |
---|---|---|---|---|
Parent Directory | - | |||
buildsrc-out.txt | 17-Oct-2023 00:35 | 920 | ||
buildsrc-summary.dcf | 17-Oct-2023 00:35 | 415 | ||
checksrc-out.txt | 17-Oct-2023 00:35 | 4.5K | ||
checksrc-summary.dcf | 17-Oct-2023 00:35 | 415 | ||
install-out.txt | 17-Oct-2023 00:35 | 42K | ||
install-summary.dcf | 17-Oct-2023 00:35 | 258 | ||