Name | Last modified | Size | Description | |
---|---|---|---|---|
Parent Directory | - | |||
install-summary.dcf | 17-Oct-2023 00:35 | 263 | ||
install-out.txt | 17-Oct-2023 00:35 | 958 | ||
checksrc-summary.dcf | 17-Oct-2023 00:35 | 426 | ||
checksrc-out.txt | 17-Oct-2023 00:35 | 5.6K | ||
buildsrc-summary.dcf | 17-Oct-2023 00:35 | 424 | ||
buildsrc-out.txt | 17-Oct-2023 00:35 | 877 | ||