Index of /checkResults/3.17/bioc-LATEST/ReUseData/raw-results/palomino3
Name
Last modified
Size
Description
Parent Directory
-
install-summary.dcf
01-Mar-2023 01:06
275
install-out.txt
01-Mar-2023 01:06
641
buildsrc-summary.dcf
01-Mar-2023 01:06
374
buildsrc-out.txt
01-Mar-2023 01:06
955