Index of /checkResults/3.17/bioc-LATEST/Rcollectl/raw-results
Name
Last modified
Size
Description
Parent Directory
-
nebbiolo1/
17-Oct-2023 00:35
-
info.dcf
17-Oct-2023 00:35
281