Name | Last modified | Size | Description | |
---|---|---|---|---|
Parent Directory | - | |||
install-out.txt | 17-Oct-2023 00:36 | 1.0K | ||
install-summary.dcf | 17-Oct-2023 00:36 | 260 | ||
buildsrc-out.txt | 17-Oct-2023 00:36 | 819 | ||
buildsrc-summary.dcf | 17-Oct-2023 00:36 | 437 | ||
checksrc-out.txt | 17-Oct-2023 00:36 | 3.4K | ||
checksrc-summary.dcf | 17-Oct-2023 00:36 | 431 | ||
buildbin-out.txt | 17-Oct-2023 00:36 | 1.1K | ||
buildbin-summary.dcf | 17-Oct-2023 00:36 | 491 | ||