Name | Last modified | Size | Description | |
---|---|---|---|---|
Parent Directory | - | |||
buildbin-out.txt | 17-Oct-2023 00:36 | 1.0K | ||
buildbin-summary.dcf | 17-Oct-2023 00:36 | 503 | ||
buildsrc-out.txt | 17-Oct-2023 00:36 | 866 | ||
buildsrc-summary.dcf | 17-Oct-2023 00:36 | 444 | ||
checksrc-out.txt | 17-Oct-2023 00:36 | 4.5K | ||
checksrc-summary.dcf | 17-Oct-2023 00:36 | 439 | ||
install-out.txt | 17-Oct-2023 00:36 | 947 | ||
install-summary.dcf | 17-Oct-2023 00:36 | 264 | ||