Name | Last modified | Size | Description | |
---|---|---|---|---|
Parent Directory | - | |||
buildsrc-out.txt | 17-Oct-2023 00:35 | 818 | ||
buildsrc-summary.dcf | 17-Oct-2023 00:35 | 426 | ||
checksrc-out.txt | 17-Oct-2023 00:35 | 9.0K | ||
checksrc-summary.dcf | 17-Oct-2023 00:35 | 426 | ||
install-out.txt | 17-Oct-2023 00:35 | 961 | ||
install-summary.dcf | 17-Oct-2023 00:35 | 265 | ||