Name | Last modified | Size | Description | |
---|---|---|---|---|
Parent Directory | - | |||
buildbin-out.txt | 17-Mar-2023 00:06 | 1.3K | ||
buildbin-summary.dcf | 17-Mar-2023 00:06 | 521 | ||
buildsrc-out.txt | 17-Oct-2023 00:36 | 1.1K | ||
buildsrc-summary.dcf | 17-Oct-2023 00:36 | 372 | ||
checksrc-out.txt | 17-Mar-2023 00:06 | 6.4K | ||
checksrc-summary.dcf | 17-Mar-2023 00:06 | 451 | ||
install-out.txt | 17-Oct-2023 00:36 | 10K | ||
install-summary.dcf | 17-Oct-2023 00:36 | 271 | ||