Name | Last modified | Size | Description | |
---|---|---|---|---|
Parent Directory | - | |||
install-summary.dcf | 17-Oct-2023 00:37 | 290 | ||
buildsrc-summary.dcf | 17-Oct-2023 00:37 | 458 | ||
checksrc-summary.dcf | 17-Oct-2023 00:37 | 484 | ||
buildbin-summary.dcf | 17-Oct-2023 00:37 | 591 | ||
buildsrc-out.txt | 17-Oct-2023 00:37 | 1.2K | ||
install-out.txt | 17-Oct-2023 00:37 | 4.0K | ||
checksrc-out.txt | 17-Oct-2023 00:37 | 4.7K | ||
buildbin-out.txt | 17-Oct-2023 00:37 | 6.3K | ||