![]() | Name | Last modified | Size | Description |
---|---|---|---|---|
![]() | Parent Directory | - | ||
![]() | buildbin-out.txt | 17-Oct-2023 00:37 | 1.1K | |
![]() | buildbin-summary.dcf | 17-Oct-2023 00:37 | 518 | |
![]() | buildsrc-out.txt | 17-Oct-2023 00:37 | 848 | |
![]() | buildsrc-summary.dcf | 17-Oct-2023 00:37 | 421 | |
![]() | checksrc-out.txt | 17-Oct-2023 00:37 | 3.1K | |
![]() | checksrc-summary.dcf | 17-Oct-2023 00:37 | 436 | |
![]() | install-out.txt | 17-Oct-2023 00:37 | 1.0K | |
![]() | install-summary.dcf | 17-Oct-2023 00:37 | 265 | |