Index of /checkResults/3.17/bioc-LATEST/RBGL/raw-results

[ICO]NameLast modifiedSizeDescription

[DIR]Parent Directory  -  
[DIR]palomino3/23-Sep-2023 00:36 -  
[DIR]nebbiolo1/23-Sep-2023 00:35 -  
[DIR]merida1/23-Sep-2023 00:37 -  
[   ]info.dcf23-Sep-2023 00:37 291