Name | Last modified | Size | Description | |
---|---|---|---|---|
Parent Directory | - | |||
install-summary.dcf | 17-Oct-2023 00:36 | 286 | ||
install-out.txt | 17-Oct-2023 00:36 | 1.9K | ||
checksrc-summary.dcf | 17-Oct-2023 00:36 | 483 | ||
checksrc-out.txt | 17-Oct-2023 00:36 | 5.7K | ||
buildsrc-summary.dcf | 17-Oct-2023 00:36 | 489 | ||
buildsrc-out.txt | 17-Oct-2023 00:36 | 1.0K | ||
buildbin-summary.dcf | 17-Oct-2023 00:36 | 570 | ||
buildbin-out.txt | 17-Oct-2023 00:36 | 2.1K | ||