Name | Last modified | Size | Description | |
---|---|---|---|---|
Parent Directory | - | |||
buildbin-out.txt | 17-Oct-2023 00:37 | 4.2K | ||
buildbin-summary.dcf | 17-Oct-2023 00:37 | 585 | ||
buildsrc-out.txt | 17-Oct-2023 00:37 | 945 | ||
buildsrc-summary.dcf | 17-Oct-2023 00:37 | 455 | ||
checksrc-out.txt | 17-Oct-2023 00:37 | 5.5K | ||
checksrc-summary.dcf | 17-Oct-2023 00:37 | 480 | ||
install-out.txt | 17-Oct-2023 00:37 | 2.1K | ||
install-summary.dcf | 17-Oct-2023 00:37 | 288 | ||