Name | Last modified | Size | Description | |
---|---|---|---|---|
Parent Directory | - | |||
buildbin-out.txt | 17-Oct-2023 00:36 | 2.4K | ||
buildbin-summary.dcf | 17-Oct-2023 00:36 | 557 | ||
buildsrc-out.txt | 17-Oct-2023 00:36 | 943 | ||
buildsrc-summary.dcf | 17-Oct-2023 00:36 | 481 | ||
checksrc-out.txt | 17-Oct-2023 00:36 | 4.3K | ||
checksrc-summary.dcf | 17-Oct-2023 00:36 | 474 | ||
install-out.txt | 17-Oct-2023 00:36 | 2.2K | ||
install-summary.dcf | 17-Oct-2023 00:36 | 282 | ||